View In:
ArcGIS JavaScript
ArcGIS Online Map Viewer
ArcGIS Earth
Service Description: Historical/Historical_1940_Richmond_Cache_Beacon
Name: Historical/Historical_1940_Richmond_Cache_Beacon
Description:
Single Fused Map Cache: true
Tile Info:
- Height: 256
- Width: 256
- DPI: 96
-
Levels of Detail: 18
- Format: MIXED
- Compression Quality: 50.0
- LERC Error: NaN
- Origin: X: 0.0
Y: 9.9997917E7
- Spatial Reference: 2244
(2965)
LatestVCSWkid(0)
Storage Info:
- Storage Format: esriMapCacheStorageModeCompactV2
- Packet Size: 128
Extent:
XMin: 533247.1354166666
YMin: 1658572.9895833533
XMax: 557195.8333333333
YMax: 1680244.6041666865
Spatial Reference: 2244
(2965)
LatestVCSWkid(0)
Initial Extent:
XMin: 533247.1354166666
YMin: 1658572.9895833533
XMax: 557195.8333333333
YMax: 1680244.6041666865
Spatial Reference: 2244
(2965)
LatestVCSWkid(0)
Full Extent:
XMin: 533247.1354166666
YMin: 1658572.9895833533
XMax: 557195.8333333333
YMax: 1680244.6041666865
Spatial Reference: 2244
(2965)
LatestVCSWkid(0)
Pixel Size X: 0.26041666666666624
Pixel Size Y: 0.26041666666666574
Band Count: 3
Pixel Type: U8
RasterFunction Infos: {"rasterFunctionInfos": [{
"name": "None",
"description": "",
"help": ""
}]}
Mensuration Capabilities: Basic
Has Histograms: false
Has Colormap: false
Has Multi Dimensions : false
Rendering Rule:
Min Scale: 760320
Max Scale: 300
Copyright Text:
Service Data Type: esriImageServiceDataTypeRGB
Min Values: N/A
Max Values: N/A
Mean Values: N/A
Standard Deviation Values: N/A
Object ID Field:
Fields:
None
Default Mosaic Method: Center
Allowed Mosaic Methods:
SortField:
SortValue: null
Mosaic Operator: First
Default Compression Quality: 75
Default Resampling Method: Bilinear
Max Record Count: null
Max Image Height: 4100
Max Image Width: 15000
Max Download Image Count: null
Max Mosaic Image Count: null
Allow Raster Function: true
Allow Copy: true
Allow Analysis: true
Allow Compute TiePoints: false
Supports Statistics: false
Supports Advanced Queries: false
Use StandardizedQueries: true
Raster Type Infos:
Name: Raster Dataset
Description: Supports all ArcGIS Raster Datasets
Help:
Has Raster Attribute Table: false
Edit Fields Info: null
Ownership Based AccessControl For Rasters: null
Child Resources:
Info
Statistics
Key Properties
Legend
Raster Function Infos
Supported Operations:
Export Image
Identify
Measure
Compute Histograms
Compute Statistics Histograms
Get Samples
Compute Class Statistics
Query Boundary
Compute Pixel Location
Compute Angles
Validate
Project