{
 "currentVersion": 11.1,
 "serviceDescription": "Ortho/Ortho_2016_Cache_Beacon",
 "name": "Ortho/Ortho_2016_Cache_Beacon",
 "description": "",
 "extent": {
  "xmin": -39922.65624999999,
  "ymin": 1623486.0104166865,
  "xmax": 569297.3958333333,
  "ymax": 2227276.6354166865,
  "spatialReference": {
   "wkid": 2244,
   "latestWkid": 2965
  }
 },
 "initialExtent": {
  "xmin": -39922.65624999999,
  "ymin": 1623486.0104166865,
  "xmax": 569297.3958333333,
  "ymax": 2227276.6354166865,
  "spatialReference": {
   "wkid": 2244,
   "latestWkid": 2965
  }
 },
 "fullExtent": {
  "xmin": -39922.65624999999,
  "ymin": 1623486.0104166865,
  "xmax": 569297.3958333333,
  "ymax": 2227276.6354166865,
  "spatialReference": {
   "wkid": 2244,
   "latestWkid": 2965
  }
 },
 "sortableFields": "",
 "bandCount": 3,
 "pixelType": "U8",
 "minValues": [],
 "maxValues": [],
 "meanValues": [],
 "stdvValues": [],
 "hasMultidimensions": false,
 "pixelSizeX": 0.26041666666666663,
 "pixelSizeY": 0.2604166666666667,
 "datasetFormat": "AFR",
 "uncompressedSize": 16272124497540,
 "blockWidth": 256,
 "blockHeight": 256,
 "compressionType": "None",
 "bandNames": [
  "Band_1",
  "Band_2",
  "Band_3"
 ],
 "allowCopy": true,
 "allowAnalysis": true,
 "itemAccess": false,
 "minPixelSize": 0.2604166666666667,
 "maxPixelSize": 660,
 "copyrightText": "",
 "serviceDataType": "esriImageServiceDataTypeRGB",
 "serviceSourceType": "esriImageServiceSourceTypeDataset",
 "objectIdField": "",
 "fields": [],
 "capabilities": "Mensuration,Image,Metadata",
 "defaultMosaicMethod": "Center",
 "allowedMosaicMethods": "",
 "sortField": "",
 "sortValue": null,
 "sortAscending": true,
 "mosaicOperator": "First",
 "defaultCompressionQuality": 75,
 "defaultResamplingMethod": "Bilinear",
 "maxImageHeight": 4100,
 "maxImageWidth": 15000,
 "singleFusedMapCache": true,
 "tileInfo": {
  "rows": 256,
  "cols": 256,
  "dpi": 96,
  "format": "MIXED",
  "compressionQuality": 50,
  "origin": {
   "x": 0,
   "y": 99997917
  },
  "spatialReference": {
   "wkid": 2244,
   "latestWkid": 2965
  },
  "lods": [
   {
    "level": 0,
    "resolution": 660,
    "scale": 760320
   },
   {
    "level": 1,
    "resolution": 550,
    "scale": 633600
   },
   {
    "level": 2,
    "resolution": 440,
    "scale": 506880
   },
   {
    "level": 3,
    "resolution": 385,
    "scale": 443520
   },
   {
    "level": 4,
    "resolution": 330,
    "scale": 380160
   },
   {
    "level": 5,
    "resolution": 275,
    "scale": 316800
   },
   {
    "level": 6,
    "resolution": 220,
    "scale": 253440
   },
   {
    "level": 7,
    "resolution": 165,
    "scale": 190080
   },
   {
    "level": 8,
    "resolution": 110,
    "scale": 126720
   },
   {
    "level": 9,
    "resolution": 55,
    "scale": 63360
   },
   {
    "level": 10,
    "resolution": 27.5,
    "scale": 31680
   },
   {
    "level": 11,
    "resolution": 13.75,
    "scale": 15840
   },
   {
    "level": 12,
    "resolution": 6.875,
    "scale": 7920
   },
   {
    "level": 13,
    "resolution": 4.166666666666666,
    "scale": 4800
   },
   {
    "level": 14,
    "resolution": 2.083333333333333,
    "scale": 2400
   },
   {
    "level": 15,
    "resolution": 1.0416666666666665,
    "scale": 1200
   },
   {
    "level": 16,
    "resolution": 0.5208333333333333,
    "scale": 600
   },
   {
    "level": 17,
    "resolution": 0.26041666666666663,
    "scale": 300
   }
  ]
 },
 "storageInfo": {
  "storageFormat": "esriMapCacheStorageModeCompactV2",
  "packetSize": 128
 },
 "cacheType": "Map",
 "allowRasterFunction": true,
 "rasterFunctionInfos": [
  {
   "name": "None",
   "description": "",
   "help": ""
  }
 ],
 "rasterTypeInfos": [
  {
   "name": "Raster Dataset",
   "description": "Supports all ArcGIS Raster Datasets",
   "help": ""
  }
 ],
 "mensurationCapabilities": "Basic",
 "hasHistograms": false,
 "hasColormap": false,
 "hasRasterAttributeTable": false,
 "minScale": 760320,
 "maxScale": 300,
 "exportTilesAllowed": false,
 "supportsStatistics": false,
 "supportsAdvancedQueries": false,
 "editFieldsInfo": null,
 "ownershipBasedAccessControlForRasters": null,
 "allowComputeTiePoints": false,
 "useStandardizedQueries": true,
 "advancedQueryCapabilities": {
  "useStandardizedQueries": true,
  "supportsStatistics": false,
  "supportsOrderBy": false,
  "supportsDistinct": false,
  "supportsPagination": false
 },
 "spatialReference": {
  "wkid": 2244,
  "latestWkid": 2965
 }
}
